BEGIN:VCALENDAR
VERSION:2.0
PRODID:icalendar-ruby
CALSCALE:GREGORIAN
METHOD:PUBLISH
BEGIN:VEVENT
DTSTAMP:20260419T121719Z
UID:6-1441125@childersburgfirstbaptist.com
DTSTART:20260419T151500Z
DTEND:20260419T164500Z
CLASS:PUBLIC
CREATED:20260307T195122
DESCRIPTION:Sunday Morning
LAST-MODIFIED:20260307T195122
LOCATION:
SUMMARY:Sunday Morning
URL;VALUE=URI:https://www.childersburgfirstbaptist.com/events/sunday-mornin
 g/2026-04-19
END:VEVENT
END:VCALENDAR
