BEGIN:VCALENDAR
VERSION:2.0
PRODID:icalendar-ruby
CALSCALE:GREGORIAN
METHOD:PUBLISH
BEGIN:VEVENT
DTSTAMP:20260420T025353Z
UID:6-1441136@childersburgfirstbaptist.com
DTSTART:20260705T151500Z
DTEND:20260705T164500Z
CLASS:PUBLIC
CREATED:20260307T195122
DESCRIPTION:Sunday Morning
LAST-MODIFIED:20260307T195122
LOCATION:
SUMMARY:Sunday Morning
URL;VALUE=URI:https://www.childersburgfirstbaptist.com/events/sunday-mornin
 g/2026-07-05
END:VEVENT
END:VCALENDAR
