BEGIN:VCALENDAR
VERSION:2.0
PRODID:icalendar-ruby
CALSCALE:GREGORIAN
METHOD:PUBLISH
BEGIN:VEVENT
DTSTAMP:20260420T052320Z
UID:6-1441138@childersburgfirstbaptist.com
DTSTART:20260719T151500Z
DTEND:20260719T164500Z
CLASS:PUBLIC
CREATED:20260307T195123
DESCRIPTION:Sunday Morning
LAST-MODIFIED:20260307T195123
LOCATION:
SUMMARY:Sunday Morning
URL;VALUE=URI:https://www.childersburgfirstbaptist.com/events/sunday-mornin
 g/2026-07-19
END:VEVENT
END:VCALENDAR
